BEGIN:VCALENDAR
VERSION:2.0
PRODID:-//hacksw/handcal//NONSGML v1.0//EN
BEGIN:VEVENT
SUMMARY:Eliminatoire triplette mixte
UID:0a5d06c8-9847-4a84-a687-a8b4f7da2866
DTSTART:20260502T063000Z
DTEND:20260502T220000Z
LOCATION:Terrain de Petanque 28 avenue de Clermont 63200 RIOM
CATEGORIES:Sportif
STATUS:
URL;VALUE=URI:https://riompetanque.sportsregions.fr/evenements/2026/05/02/eliminatoire-triplette-mixte-2388806
END:VEVENT
END:VCALENDAR
