BEGIN:VCALENDAR
VERSION:2.0
PRODID:-//hacksw/handcal//NONSGML v1.0//EN
BEGIN:VEVENT
SUMMARY:Eliminatoire doublette masculin
UID:78392040-df4c-41ae-9c24-a4a8d9218737
DTSTART:20260425T063000Z
DTEND:20260425T220000Z
LOCATION:Localisation  63 CEBAZAT
CATEGORIES:Sportif
STATUS:
URL;VALUE=URI:https://riompetanque.sportsregions.fr/evenements/2026/04/25/eliminatoire-doublette-masculin-2388804
END:VEVENT
END:VCALENDAR
