BEGIN:VCALENDAR
VERSION:2.0
PRODID:-//hacksw/handcal//NONSGML v1.0//EN
BEGIN:VEVENT
SUMMARY:Eliminatoire triplette veterans
UID:8888ffa7-891b-4cfb-856b-78801d293ed7
DTSTART:20260421T070000Z
DTEND:20260421T220000Z
LOCATION:Localisation  63 ST GERVAIS
CATEGORIES:Sportif
STATUS:
URL;VALUE=URI:https://riompetanque.sportsregions.fr/evenements/2026/04/21/eliminatoire-triplette-veterans-2388803
END:VEVENT
END:VCALENDAR
