BEGIN:VCALENDAR
VERSION:2.0
PRODID:-//hacksw/handcal//NONSGML v1.0//EN
BEGIN:VEVENT
SUMMARY:Eliminatoire triplette Masculin
UID:d0fb7c74-7427-4616-91d7-4a23ae8d680e
DTSTART:20260411T063000Z
DTEND:20260411T220000Z
LOCATION:Localisation  63 St Sylvestre Pragoulin
CATEGORIES:Sportif
STATUS:
URL;VALUE=URI:https://riompetanque.sportsregions.fr/evenements/2026/04/11/eliminatoire-triplette-masculin-2388799
END:VEVENT
END:VCALENDAR
